BEGIN:VCALENDAR
VERSION:2.0
CALSCALE:GREGORIAN
METHOD:PUBLISH
PRODID://RGS//446654
BEGIN:VEVENT
DTSTAMP:20260419T105845
VTIMEZONE:America/New_York
DTSTART:20251125T233000Z
DTEND:20251126T010000Z
UID:446654
SUMMARY:RGS Board Meeting
LOCATION:
DESCRIPTION:RGS Board Meeting\n\n11/25/25 06:30 PM EST\n - 11/25/25 08:00 PM EST
X-ALT-DESC;FMTTYPE=text/html:RGS Board Meeting<br /><br />11/25/25 06:30 PM EST - 11/25/25 08:00 PM EST
PRIORITY:3
TRANSP:TRANSPARENT
BEGIN:VALARM
TRIGGER:-PT5M
ACTION:DISPLAY
DESCRIPTION:Reminder
END:VALARM
END:VEVENT
END:VCALENDAR
