BEGIN:VCALENDAR
VERSION:2.0
CALSCALE:GREGORIAN
METHOD:PUBLISH
PRODID://RGS//449262
BEGIN:VEVENT
DTSTAMP:20260419T105625
VTIMEZONE:America/New_York
DTSTART:20251107T000000Z
DTEND:20251106T050000Z
UID:449262
SUMMARY:Writers Group Monthly Meeting
LOCATION:
DESCRIPTION:Writers Group Monthly Meeting\n\n11/06/25 07:00 PM EST\n - 11/06/25 07:00 PM EST\Description:\nAs we working on our book, many people expressed an interest in how Miranda created the index.  Tonight, Miranda Howard will explain how she did and how you too.
X-ALT-DESC;FMTTYPE=text/html:Writers Group Monthly Meeting<br /><br />11/06/25 07:00 PM EST - 11/06/25 07:00 PM EST<br />Description:<br />As we working on our book, many people expressed an interest in how Miranda created the index. &nbsp;Tonight, Miranda Howard will explain how she did and how you too.
PRIORITY:3
TRANSP:TRANSPARENT
BEGIN:VALARM
TRIGGER:-PT5M
ACTION:DISPLAY
DESCRIPTION:Reminder
END:VALARM
END:VEVENT
END:VCALENDAR
