BEGIN:VCALENDAR
VERSION:2.0
CALSCALE:GREGORIAN
METHOD:PUBLISH
PRODID://RGS//449263
BEGIN:VEVENT
DTSTAMP:20260419T092620
VTIMEZONE:America/New_York
DTSTART:20251205T000000Z
DTEND:20251205T020000Z
UID:449263
SUMMARY:Writers Group Monthly Meeting
LOCATION:
DESCRIPTION:Writers Group Monthly Meeting\n\n12/04/25 07:00 PM EST\n - 12/04/25 09:00 PM EST\Description:\nWriters Group meetings are a combination of sharing our work and discussion on a variety of writing related topics.
X-ALT-DESC;FMTTYPE=text/html:Writers Group Monthly Meeting<br /><br />12/04/25 07:00 PM EST - 12/04/25 09:00 PM EST<br />Description:<br />Writers Group meetings are a combination of sharing our work and discussion on a variety of writing related topics.
PRIORITY:3
TRANSP:TRANSPARENT
BEGIN:VALARM
TRIGGER:-PT5M
ACTION:DISPLAY
DESCRIPTION:Reminder
END:VALARM
END:VEVENT
END:VCALENDAR
