BEGIN:VCALENDAR
VERSION:2.0
CALSCALE:GREGORIAN
METHOD:PUBLISH
PRODID://RGS//449502
BEGIN:VEVENT
DTSTAMP:20260419T092850
VTIMEZONE:America/New_York
DTSTART:20251206T133000Z
DTEND:20251206T173000Z
UID:449502
SUMMARY:RGS Scanning & Indexing Event at the Town of Rush
LOCATION:Town of Rush, Town Historian, 5977 E Henrietta Rd, Rush, NY, 14543
DESCRIPTION:RGS Scanning & Indexing Event at the Town of Rush\n\n12/06/25 08:30 AM EST\n - 12/06/25 12:30 PM EST\Description:\nDo you have a passion for preserving the past and making historical records accessible to others? Join the RGS Scanning & Indexing Team! We host monthly volunteer and scanning events to help achieve this important goal. If you'd like to get involved, please register for the specific dates you'd like to volunteer.\n\nFor more information, contact Eric Vaughn at evaughn@nyrgs.org.\Details:\nParking & Entrance\nParking is available at both:\n\n\n	\n	5977 E Henrietta Rd, Rush, NY 14543\n	\n	\n	1900 Rush Scottsville Rd, Rush, NY 14543\n	\n\n\nPlease use the back entrance under the covered walkway of The Rush Town Hall/Public Library. Take the stairs or elevator to the second floor to the Town Historian's Office.\n\Location:\nTown of Rush, Town Historian\n5977 E Henrietta Rd\nRush, NY 14543
X-ALT-DESC;FMTTYPE=text/html:RGS Scanning & Indexing Event at the Town of Rush<br /><br />12/06/25 08:30 AM EST - 12/06/25 12:30 PM EST<br />Description:<br />Do you have a passion for preserving the past and making historical records accessible to others? Join the RGS Scanning &amp; Indexing Team! We host monthly volunteer and scanning events to help achieve this important goal. If you'd like to get involved, please register for the specific dates you'd like to volunteer.<br />
<br />
For more information, contact Eric Vaughn at&nbsp;<a href="mailto:evaughn@nyrgs.org">evaughn@nyrgs.org</a>.<br />Details:<br /><p data-end="107" data-start="51"><strong data-end="73" data-start="51">Parking &amp; Entrance</strong><br data-end="76" data-start="73" />
Parking is available at both:</p>

<ul data-end="200" data-start="108">
	<li data-end="151" data-start="108">
	<p data-end="151" data-start="110"><strong data-end="149" data-start="110">5977 E Henrietta Rd, Rush, NY 14543</strong></p>
	</li>
	<li data-end="200" data-start="152">
	<p data-end="200" data-start="154"><strong data-end="198" data-start="154">1900 Rush Scottsville Rd, Rush, NY 14543</strong></p>
	</li>
</ul>

<p data-end="353" data-start="202">Please use the <strong data-end="234" data-start="217">back entrance</strong> under the covered walkway of The Rush Town Hall/Public Library. Take the stairs or elevator to the <strong data-end="350" data-start="334">second floor&nbsp;</strong>to the <strong>Town Historian's Office</strong>.</p>
<br />Location:<br />Town of Rush, Town Historian<br />5977 E Henrietta Rd<br />Rush, NY 14543
PRIORITY:3
TRANSP:TRANSPARENT
BEGIN:VALARM
TRIGGER:-PT5M
ACTION:DISPLAY
DESCRIPTION:Reminder
END:VALARM
END:VEVENT
END:VCALENDAR
