BEGIN:VCALENDAR
VERSION:2.0
CALSCALE:GREGORIAN
METHOD:PUBLISH
PRODID://RGS//455620
BEGIN:VEVENT
DTSTAMP:20260419T150921
VTIMEZONE:America/New_York
DTSTART:20251025T150000Z
DTEND:20251025T190000Z
UID:455620
SUMMARY:RGS MemberÂ Field Trip to Rundel Memorial Building Local History & Genealogy - Rochester Public Library
LOCATION:, Local History & Genealogy DivisionÂ (on the 2nd floor of the Rundel Memorial Building), Rochester, NY, 14604
DESCRIPTION:RGS MemberÂ Field Trip to Rundel Memorial Building Local History & Genealogy - Rochester Public Library\n\n10/25/25 11:00 AM EST\n - 10/25/25 03:00 PM EST\Description:\nRGS Member Field Trip: Rundel Memorial Building – Local History & Genealogy Division\n\nJoin fellow Rochester Genealogical Society members for a special field trip to the Rundel Memorial Building, home to the Local History & Genealogy Division of the Rochester Public Library.\n\nThis unique opportunity will provide members with an inside look at one of Rochester’s most valuable research resources. Staff will guide us through the division’s extensive collections, including historical newspapers, city directories, maps, photographs, and specialized genealogical materials. Participants will also learn tips for navigating the library’s digital resources and uncover strategies to make the most of their family history research.\n\nWhether you are new to genealogy or a seasoned researcher, this visit will help you discover tools and treasures to deepen your family history journey—while connecting with fellow RGS members in a historic and inspiring setting.\n\Location:\n\nLocal History & Genealogy DivisionÂ (on the 2nd floor of the Rundel Memorial Building)\nRochester, NY 14604
X-ALT-DESC;FMTTYPE=text/html:RGS MemberÂ Field Trip to Rundel Memorial Building Local History & Genealogy - Rochester Public Library<br /><br />10/25/25 11:00 AM EST - 10/25/25 03:00 PM EST<br />Description:<br /><p data-end="367" data-start="78"><strong data-end="166" data-start="78">RGS Member Field Trip: Rundel Memorial Building &ndash; Local History &amp; Genealogy Division</strong><br />
<br data-end="169" data-start="166" />
Join fellow Rochester Genealogical Society members for a special field trip to the <strong data-end="280" data-start="252">Rundel Memorial Building</strong>, home to the <strong data-end="364" data-start="294">Local History &amp; Genealogy Division of the Rochester Public Library</strong>.</p>

<p data-end="822" data-start="369">This unique opportunity will provide members with an inside look at one of Rochester&rsquo;s most valuable research resources. Staff will guide us through the division&rsquo;s extensive collections, including historical newspapers, city directories, maps, photographs, and specialized genealogical materials. Participants will also learn tips for navigating the library&rsquo;s digital resources and uncover strategies to make the most of their family history research.</p>

<p data-end="1054" data-start="824">Whether you are new to genealogy or a seasoned researcher, this visit will help you discover tools and treasures to deepen your family history journey&mdash;while connecting with fellow RGS members in a historic and inspiring setting.</p>
<br />Location:<br /><br />Local History & Genealogy DivisionÂ (on the 2nd floor of the Rundel Memorial Building)<br />Rochester, NY 14604
PRIORITY:3
TRANSP:TRANSPARENT
BEGIN:VALARM
TRIGGER:-PT5M
ACTION:DISPLAY
DESCRIPTION:Reminder
END:VALARM
END:VEVENT
END:VCALENDAR
