BEGIN:VCALENDAR
VERSION:2.0
CALSCALE:GREGORIAN
METHOD:PUBLISH
PRODID://RGS//455824
BEGIN:VEVENT
DTSTAMP:20260419T105754
VTIMEZONE:America/New_York
DTSTART:20251117T233000Z
DTEND:20251118T013000Z
UID:455824
SUMMARY:WikiTree Workshop - Sponsored by TIG
LOCATION:Henrietta Public Library - Community Room, 625 Calkins Road, Rochester, NY, 14623
DESCRIPTION:WikiTree Workshop - Sponsored by TIG\n\n11/17/25 06:30 PM EST\n - 11/17/25 08:30 PM EST\Description:\nWikiTree is a free, online collaborative genealogy tool where you can post your sourced family history and meet with others who may be working on your family line. It has been growing for 16 years from the grassroots up.\n\nToday, WikiTree has 1,255,527 community members and 42,875,250 ancestors and cousins on our tree, 15,288,686 of which have DNA connections.\nEverything on WikiTree is free for everyone, forever. Expenses are covered by unobtrusive advertisements. Members who sign the Honor Code don't even see most of the ads, but can enjoy member benefits that cost money on other websites.\n\nIn-person registration for the workshop is limited to the first 30 people who register. Other participants can take part over Zoom.\n\n \n\Details:\nLearn about WikiTree\nJoin us for a workshop session on how to use WikiTree in your genealogy research. For over 16 years, WikiTree has been the place where genealogists and family historians have collaborated on a free global family tree. Almost 1.3 million community members have shared information on almost 43 million of their ancestors. Over 15 million of those ancestors have DNA connections.\n\nIn this workshop, we will learn:\n\n\n	â€‹how to create WikiTree profiles for our ancestors\n	what the WikiTree Honor Code involves\n	how to use the WIkiTree Browser Extension and WikiTree Sourcer\n	how to use the WikiTree Automatic Gedcom Cleanup tool\n\nThis will be a hands-on workshop. In-person participants should bring a laptop computer so they can work along with the demonstrations. The workshop will be available for remote participants over Zoom and will be recorded and made available on the TIG page on the RGS website.\Location:\nHenrietta Public Library - Community Room\n625 Calkins Road\nRochester, NY 14623
X-ALT-DESC;FMTTYPE=text/html:WikiTree Workshop - Sponsored by TIG<br /><br />11/17/25 06:30 PM EST - 11/17/25 08:30 PM EST<br />Description:<br /><span style="font-size:20px">WikiTree is a free, online collaborative genealogy tool where you can post your sourced family history and meet with others who may be working on your family line. It&nbsp;has been growing for&nbsp;<strong>16 years</strong>&nbsp;from the grassroots up.<br />
<br />
Today, WikiTree has&nbsp;<strong>1,255,527</strong>&nbsp;community members and&nbsp;<strong>42,875,250</strong>&nbsp;ancestors and cousins on our tree,&nbsp;<strong>15,288,686</strong>&nbsp;of which have&nbsp;<a href="https://www.wikitree.com/wiki/Help:DNA" target="Help" title="Why DNA + WikiTree = Awesome">DNA</a>&nbsp;connections.</span>
<p><span style="font-size:20px">Everything on WikiTree is&nbsp;<strong>free</strong>&nbsp;for everyone, forever. Expenses are covered by unobtrusive advertisements. Members who sign the&nbsp;<a href="https://www.wikitree.com/wiki/Special:Honor_Code" target="_blank" title="The Honor Code makes our collaboration productive and enjoyable. Click here to read its nine simple points.">Honor Code</a>&nbsp;don't even see most of the ads, but can enjoy&nbsp;<a href="https://www.wikitree.com/wiki/Help:Membership#Benefits_of_membership" target="Help" title="Click here for a summary of the benefits of WikiTree membership.">member benefits</a>&nbsp;that cost money on other websites.<br />
<br />
<strong>In-person registration for the workshop is limited to the first 30 people who register. Other participants can take part over Zoom.</strong></span></p>

<form action="https://www.wikitree.com/wiki/Special:SearchPerson" method="POST">&nbsp;</form>
<br />Details:<br /><h2>Learn about WikiTree</h2>
<span style="font-size:14px">Join us for a workshop session on how to use <strong>WikiTree</strong> in your genealogy research. For over 16 years, WikiTree&nbsp;has been the place where genealogists and family historians have collaborated on a free global family tree. Almost 1.3 million community members have shared information on almost 43 million of their ancestors. Over 15 million of those ancestors have DNA connections.<br />
<br />
In this workshop, we will learn:</span>

<ul>
	<li><span style="font-size:14px">â€‹how to create WikiTree profiles for our ancestors</span></li>
	<li><span style="font-size:14px">what the WikiTree&nbsp;Honor Code involves</span></li>
	<li><span style="font-size:14px">how to use the WIkiTree Browser Extension and WikiTree Sourcer</span></li>
	<li><span style="font-size:14px">how to use the WikiTree Automatic Gedcom Cleanup tool</span></li>
</ul>
<span style="font-size:14px">This will be a hands-on workshop. In-person participants should bring a laptop computer so they can work along with the demonstrations. The workshop will be available for remote participants over Zoom and will be recorded and made available on the TIG page on the RGS website.</span><br />Location:<br />Henrietta Public Library - Community Room<br />625 Calkins Road<br />Rochester, NY 14623
PRIORITY:3
TRANSP:TRANSPARENT
BEGIN:VALARM
TRIGGER:-PT5M
ACTION:DISPLAY
DESCRIPTION:Reminder
END:VALARM
END:VEVENT
END:VCALENDAR
