BEGIN:VCALENDAR
VERSION:2.0
CALSCALE:GREGORIAN
METHOD:PUBLISH
PRODID://RGS//462812
BEGIN:VEVENT
DTSTAMP:20260419T105828
VTIMEZONE:America/New_York
DTSTART:20251118T234500Z
DTEND:20251119T020000Z
UID:462812
SUMMARY:RGS November 2025 Member Program: Bill Moore - AI for Genealogy - Using Technology to Find Family Connections
LOCATION:Nazareth University, Otto A. Shults Community Center, Rochester, NY, 14618
DESCRIPTION:RGS November 2025 Member Program: Bill Moore - AI for Genealogy - Using Technology to Find Family Connections\n\n11/18/25 06:45 PM EST\n - 11/18/25 09:00 PM EST\Description:\nBill Moore, RGS 2nd Vice-President, will present a session highlighting how Artificial Intelligence can be used to speed and improve our genealogy research.\Details:\nPlease register in advance of the event to attend in-person or participate over Zoom.\n\nLocation Information:\nThe RGS Meeting will take place at Nazareth University and over Zoom.\nNazareth University Address: 4245 East Ave., Rochester, N.Y. 14618.\nFrom East Ave, please enter through North Campus Drive.\nParking is available in lots D, E, & F as noted on the map.\nRGS Meeting will take place in building #4, Otto A. Shults Community Center.\n \Location:\nNazareth University\nOtto A. Shults Community Center\nRochester, NY 14618
X-ALT-DESC;FMTTYPE=text/html:RGS November 2025 Member Program: Bill Moore - AI for Genealogy - Using Technology to Find Family Connections<br /><br />11/18/25 06:45 PM EST - 11/18/25 09:00 PM EST<br />Description:<br />Bill Moore, RGS 2nd Vice-President, will present a session highlighting how Artificial Intelligence can be used to speed and improve our genealogy research.<br />Details:<br /><strong>Please register in advance of the event to attend in-person or participate over Zoom.</strong><br />
<br />
<u><strong>Location Information:</strong></u><br />
The RGS Meeting will take place at Nazareth University and over Zoom.<br />
Nazareth University Address: 4245 East Ave., Rochester, N.Y. 14618.<br />
From East Ave, please enter through North Campus Drive.<br />
Parking is available in lots D, E, &amp; F as noted on the map.<br />
RGS Meeting will take place in building #4, Otto A. Shults Community Center.<br />
&nbsp;<br />Location:<br />Nazareth University<br />Otto A. Shults Community Center<br />Rochester, NY 14618
PRIORITY:3
TRANSP:TRANSPARENT
BEGIN:VALARM
TRIGGER:-PT5M
ACTION:DISPLAY
DESCRIPTION:Reminder
END:VALARM
END:VEVENT
END:VCALENDAR
