BEGIN:VCALENDAR
VERSION:2.0
CALSCALE:GREGORIAN
METHOD:PUBLISH
PRODID://RGS//473679
BEGIN:VEVENT
DTSTAMP:20260419T092747
VTIMEZONE:America/New_York
DTSTART:20260117T140000Z
DTEND:20260117T180000Z
UID:473679
SUMMARY:RGS Scanning & Indexing Event at the South Wedge Planning Committee
LOCATION:South Wedge Planning Committee, 224 Mount Hope Ave., Rochester, NY
DESCRIPTION:RGS Scanning & Indexing Event at the South Wedge Planning Committee\n\n01/17/26 09:00 AM EST\n - 01/17/26 01:00 PM EST\Description:\nDo you have a passion for preserving the past and making historical records accessible to others? Join the RGS Scanning & Indexing Team! We host monthly volunteer and scanning events to help achieve this important goal. If you'd like to get involved, please register for the specific dates you'd like to volunteer.\n\nFor more information, contact Eric Vaughn at evaughn@nyrgs.org.\Location:\nSouth Wedge Planning Committee\n224 Mount Hope Ave.\nRochester, NY
X-ALT-DESC;FMTTYPE=text/html:RGS Scanning & Indexing Event at the South Wedge Planning Committee<br /><br />01/17/26 09:00 AM EST - 01/17/26 01:00 PM EST<br />Description:<br />Do you have a passion for preserving the past and making historical records accessible to others? Join the RGS Scanning &amp; Indexing Team! We host monthly volunteer and scanning events to help achieve this important goal. If you'd like to get involved, please register for the specific dates you'd like to volunteer.<br />
<br />
For more information, contact Eric Vaughn at&nbsp;<a href="mailto:evaughn@nyrgs.org">evaughn@nyrgs.org</a>.<br />Location:<br />South Wedge Planning Committee<br />224 Mount Hope Ave.<br />Rochester, NY 
PRIORITY:3
TRANSP:TRANSPARENT
BEGIN:VALARM
TRIGGER:-PT5M
ACTION:DISPLAY
DESCRIPTION:Reminder
END:VALARM
END:VEVENT
END:VCALENDAR
