BEGIN:VCALENDAR
VERSION:2.0
CALSCALE:GREGORIAN
METHOD:PUBLISH
PRODID://RGS//483465
BEGIN:VEVENT
DTSTAMP:20260421T085727
VTIMEZONE:America/New_York
DTSTART:20260127T233000Z
DTEND:20260128T010000Z
UID:483465
SUMMARY:RGS Board Meeting
LOCATION:Zoom- Link in registration
DESCRIPTION:RGS Board Meeting\n\n01/27/26 06:30 PM EST\n - 01/27/26 08:00 PM EST\Location:\nZoom- Link in registration\n\n,
X-ALT-DESC;FMTTYPE=text/html:RGS Board Meeting<br /><br />01/27/26 06:30 PM EST - 01/27/26 08:00 PM EST<br />Location:<br />Zoom- Link in registration<br /><br />,  
PRIORITY:3
TRANSP:TRANSPARENT
BEGIN:VALARM
TRIGGER:-PT5M
ACTION:DISPLAY
DESCRIPTION:Reminder
END:VALARM
END:VEVENT
END:VCALENDAR
